Workbook

Sheet Overzicht Omzet webshop 2015
A1: =webshopdata!A1 -> Datum | B1: =webshopdata!B1 -> Factuurnummer | C1: =webshopdata!C1 -> Netto orderbedrag | D1: BTW 6% | E1: BTW 21% | F1: =webshopdata!E1 -> Totaal BTW-orderbedrag | G1: =webshopdata!F1 -> Korting spaarsysteem | H1: =webshopdata!G1 -> Bruto orderbedrag | I1: =webshopdata!I1 -> Betaalwijze ID | J1: =webshopdata!K1 -> BTW Verzendkosten | K1: =webshopdata!J1 -> Netto verzendkosten
A2: =webshopdata!A2 -> 42267.419 | B2: =webshopdata!B2 -> AM2015-293 | C2: =webshopdata!C2 -> -49.83 | D2: =IFERROR(VenA(webshopdata!$H2,D$1),0) -> -0.5349 | E2: =IFERROR(VenA(webshopdata!$H2,E$1),0) -> -8.59089 | F2: =webshopdata!E2 -> -9.12 | G2: =webshopdata!F2 -> 0 | H2: =webshopdata!G2 -> -58.95 | I2: =webshopdata!I2 -> 3 | J2: =webshopdata!K2 -> 0 | K2: =webshopdata!J2 -> 0
A3: =webshopdata!A3 -> 42267.426 | B3: =webshopdata!B3 -> AM2015-294 | C3: =webshopdata!C3 -> 56.53 | D3: =IFERROR(VenA(webshopdata!$H3,D$1),0) -> 0.74148 | E3: =IFERROR(VenA(webshopdata!$H3,E$1),0) -> 9.27643 | F3: =webshopdata!E3 -> 10.02 | G3: =webshopdata!F3 -> 0 | H3: =webshopdata!G3 -> 66.55 | I3: =webshopdata!I3 -> 3 | J3: =webshopdata!K3 -> 0 | K3: =webshopdata!J3 -> 0
A4: =webshopdata!A4 -> 42268.858 | B4: =webshopdata!B4 -> AM2015-295 | C4: =webshopdata!C4 -> 24.09 | D4: =IFERROR(VenA(webshopdata!$H4,D$1),0) -> 0.2802 | E4: =IFERROR(VenA(webshopdata!$H4,E$1),0) -> 4.0782 | F4: =webshopdata!E4 -> 4.36 | G4: =webshopdata!F4 -> 0 | H4: =webshopdata!G4 -> 28.45 | I4: =webshopdata!I4 -> 3 | J4: =webshopdata!K4 -> 0 | K4: =webshopdata!J4 -> 0
A5: =webshopdata!A5 -> 42271.806 | B5: =webshopdata!B5 -> AM2015-296 | C5: =webshopdata!C5 -> 21.9 | D5: =IFERROR(VenA(webshopdata!$H5,D$1),0) -> 0 | E5: =IFERROR(VenA(webshopdata!$H5,E$1),0) -> 4.59921 | F5: =webshopdata!E5 -> 4.6 | G5: =webshopdata!F5 -> 0 | H5: =webshopdata!G5 -> 26.5 | I5: =webshopdata!I5 -> 3 | J5: =webshopdata!K5 -> 0 | K5: =webshopdata!J5 -> 0
A6: =webshopdata!A6 -> 42271.853 | B6: =webshopdata!B6 -> AM2015-297 | C6: =webshopdata!C6 -> 42.61 | D6: =IFERROR(VenA(webshopdata!$H6,D$1),0) -> 2.14518 | E6: =IFERROR(VenA(webshopdata!$H6,E$1),0) -> 1.4406 | F6: =webshopdata!E6 -> 3.59 | G6: =webshopdata!F6 -> 0 | H6: =webshopdata!G6 -> 46.2 | I6: =webshopdata!I6 -> 3 | J6: =webshopdata!K6 -> 0 | K6: =webshopdata!J6 -> 0
A7: =webshopdata!A7 -> 42274.384 | B7: =webshopdata!B7 -> AM2015-298 | C7: =webshopdata!C7 -> 15.08 | D7: =IFERROR(VenA(webshopdata!$H7,D$1),0) -> 0.5604 | E7: =IFERROR(VenA(webshopdata!$H7,E$1),0) -> 1.20624 | F7: =webshopdata!E7 -> 1.77 | G7: =webshopdata!F7 -> 0 | H7: =webshopdata!G7 -> 16.85 | I7: =webshopdata!I7 -> 3 | J7: =webshopdata!K7 -> 0 | K7: =webshopdata!J7 -> 0
A8: =webshopdata!A8 -> 42274.389 | B8: =webshopdata!B8 -> 0 | C8: =webshopdata!C8 -> 94.16 | D8: =IFERROR(VenA(webshopdata!$H8,D$1),0) -> 1.21416 | E8: =IFERROR(VenA(webshopdata!$H8,E$1),0) -> 15.52446 | F8: =webshopdata!E8 -> 16.74 | G8: =webshopdata!F8 -> 0 | H8: =webshopdata!G8 -> 110.9 | I8: =webshopdata!I8 -> 9 | J8: =webshopdata!K8 -> 0 | K8: =webshopdata!J8 -> 0
A9: =webshopdata!A9 -> 42274.824 | B9: =webshopdata!B9 -> AM2015-299 | C9: =webshopdata!C9 -> 17.77 | D9: =IFERROR(VenA(webshopdata!$H9,D$1),0) -> 0 | E9: =IFERROR(VenA(webshopdata!$H9,E$1),0) -> 3.7314 | F9: =webshopdata!E9 -> 3.73 | G9: =webshopdata!F9 -> 0 | H9: =webshopdata!G9 -> 21.5 | I9: =webshopdata!I9 -> 3 | J9: =webshopdata!K9 -> 0 | K9: =webshopdata!J9 -> 0
A10: =webshopdata!A10 -> 42275.797 | B10: =webshopdata!B10 -> 0 | C10: =webshopdata!C10 -> 99.06 | D10: =IFERROR(VenA(webshopdata!$H10,D$1),0) -> 0 | E10: =IFERROR(VenA(webshopdata!$H10,E$1),0) -> 20.80071 | F10: =webshopdata!E10 -> 20.79 | G10: =webshopdata!F10 -> 0 | H10: =webshopdata!G10 -> 119.85 | I10: =webshopdata!I10 -> 9 | J10: =webshopdata!K10 -> 0 | K10: =webshopdata!J10 -> 0
A13: =webshopdata!I1 -> Betaalwijze ID | C13: =webshopdata!C1 -> Netto orderbedrag | D13: BTW 6% | E13: BTW 21% | F13: =webshopdata!E1 -> Totaal BTW-orderbedrag | G13: =webshopdata!F1 -> Korting spaarsysteem | H13: =webshopdata!G1 -> Bruto orderbedrag | J13: Verzendkosten (btw) | K13: Verzendkosten (netto)
A14: VOORUIT (2) | C14: =SUMIF(I2:I10,2,C2:C10) -> 0 | D14: =SUMIF(I2:I10,2,D2:D10) -> 0 | E14: =SUMIF(I1:I10,2,E1:E10) -> 0 | F14: =SUM(D14:E14) -> 0 | G14: =SUMIF(I1:I10,2,G1:G10) -> 0 | H14: =SUMIF(I1:I10,2,H1:H10) -> 0 | J14: =SUMIF(I1:I10,2,J1:J10) -> 0 | K14: =SUMIF(I2:I10,2,K2:K10) -> 0
A15: CONTANT (3) | C15: =SUMIF(I2:I81,"3",C2:C82) -> 128.15 | D15: =SUMIF(I1:I81,"3",D1:D82) -> 3.19236 | E15: =SUMIF(I1:I11,3,E1:E11) -> 15.74119 | F15: =SUM(D15:E15) -> 18.93355 | G15: =SUMIF(I1:I81,"3",G1:G82) -> 0 | H15: =SUMIF(I1:I81,"3",H1:H82) -> 147.1 | J15: =SUMIF(I1:I11,3,J1:J11) -> 0 | K15: =SUMIF(I1:I11,3,K1:K11) -> 0
A16: PIN (4) | C16: =SUMIF(I2:I81,"4",C2:C82) -> 0 | D16: =SUMIF(I2:I81,"4",D2:D82) -> 0 | E16: =SUMIF(I1:I12,4,E1:E12) -> 0 | F16: =SUM(D16:E16) -> 0 | G16: =SUMIF(I1:I81,"4",G1:G82) -> 0 | H16: =SUMIF(I1:I81,"4",H1:H82) -> 0 | J16: =SUMIF(I1:I12,4,J1:J12) -> 0 | K16: =SUMIF(I1:I12,4,K1:K12) -> 0
A17: PAYPAL (5) | C17: =SUMIF(I3:I82,"5",C3:C83) -> 0 | D17: =SUMIF(I1:I82,"5",D1:D83) -> 0 | E17: =SUMIF(I1:I12,5,E1:E13) -> 0 | F17: =SUM(D17:E17) -> 0 | G17: =SUMIF(I1:I82,"5",G1:G83) -> 0 | H17: =SUMIF(I1:I82,"5",H1:H83) -> 0 | J17: =SUMIF(I1:I12,5,J1:J12) -> 0 | K17: =SUMIF(I1:I13,5,K1:K13) -> 0
A18: IDEAL (8) | C18: =SUMIF(I4:I83,"8",C4:C84) -> 0 | D18: =SUMIF(I1:I83,"8",D1:D84) -> 0 | E18: =SUMIF(I1:I12,8,E1:E14) -> 0 | F18: =SUM(D18:E18) -> 0 | G18: =SUMIF(I1:I83,"8",G1:G84) -> 0 | H18: =SUMIF(I1:I83,"8",H1:H84) -> 0 | J18: =SUMIF(I1:I12,8,J1:J12) -> 0 | K18: =SUMIF(I1:I14,8,K1:K14) -> 0
A19: FACTUUR (9) | C19: =SUMIF(I5:I84,"9",C5:C85) -> 193.22 | D19: =SUMIF(I1:I84,"9",D1:D85) -> 1.21416 | E19: =SUMIF(I1:I10,9,E1:E10) -> 36.32517 | F19: =SUM(D19:E19) -> 37.53933 | G19: =SUMIF(I1:I84,"9",G1:G85) -> 0 | H19: =SUMIF(I1:I84,"9",H1:H85) -> 230.75 | J19: =SUMIF(I1:I12,9,J1:J12) -> 0 | K19: =SUMIF(I1:I15,9,K1:K15) -> 0
A21: Totaal | B21: =SUM(C21,D21,E21,K21) -> 377.84288 | C21: =SUM(C14:C19) -> 321.37 | D21: =SUM(D14:D19) -> 4.40652 | E21: =SUM(E14:E19) -> 52.06636 | F21: =SUM(F14:F19) -> 56.47288 | G21: =SUM(G14:G19) -> 0 | H21: =SUM(H14:H19) -> 377.85 | J21: =SUM(J14:J19) -> 0 | K21: =SUM(K14:K19) -> 0
A24: BOEKHOUDING | B24: NETTO | C24: BTW 6% | D24: BTW 21% | E24: BRUTO
A26: KAS | B26: =C15 -> 128.15 | C26: =D15 -> 3.19236 | D26: =E15 -> 15.74119 | E26: =SUM(B26:D26) -> 147.08355
A27: BANK | B27: =SUM(C19,C18,C17,C16,C14,K14,K16,K17,K18,K19) -> 193.22 | C27: =SUM(D14,D16,D17,D18,D19) -> 1.21416 | D27: =SUM(E14,E16,E17,E18,E19) -> 36.32517 | E27: =SUM(B27:D27) -> 230.75933
D29: Totaal | E29: =SUM(E26:E27) -> 377.84288

Sheet webshopdata
A1: Datum | B1: Factuurnummer | C1: Netto orderbedrag | D1: Orderstatus | E1: Totaal BTW-orderbedrag | F1: Korting spaarsysteem | G1: Bruto orderbedrag | H1: BTW gespecificeerd | I1: Betaalwijze ID | J1: Netto verzendkosten | K1: BTW Verzendkosten
A2: 42267.419 | B2: AM2015-293 | C2: -49.83 | D2: AFGESLOTEN | E2: -9.12 | F2: 0 | G2: -58.95 | H2: {"1":{"virtuemart_calc_id":1,"calc_name":"21% BTW","calc_value":21,"result":-8.59089},"2":{"virtuemart_calc_id":2,"calc_name":"6% BTW","calc_value":6,"result":-0.5349}} | I2: 3 | J2: 0 | K2: 0
A3: 42267.426 | B3: AM2015-294 | C3: 56.53 | D3: AFGESLOTEN | E3: 10.02 | F3: 0 | G3: 66.55 | H3: {"1":{"virtuemart_calc_id":1,"calc_name":"21% BTW","calc_value":21,"result":9.27643},"2":{"virtuemart_calc_id":2,"calc_name":"6% BTW","calc_value":6,"result":0.74148}} | I3: 3 | J3: 0 | K3: 0
A4: 42268.858 | B4: AM2015-295 | C4: 24.09 | D4: AFGESLOTEN | E4: 4.36 | F4: 0 | G4: 28.45 | H4: {"2":{"virtuemart_calc_id":2,"calc_name":"6% BTW","calc_value":6,"result":0.2802},"1":{"virtuemart_calc_id":1,"calc_name":"21% BTW","calc_value":21,"result":4.0782}} | I4: 3 | J4: 0 | K4: 0
A5: 42271.806 | B5: AM2015-296 | C5: 21.9 | D5: AFGESLOTEN | E5: 4.6 | F5: 0 | G5: 26.5 | H5: {"1":{"virtuemart_calc_id":1,"calc_name":"21% BTW","calc_value":21,"result":4.59921}} | I5: 3 | J5: 0 | K5: 0
A6: 42271.853 | B6: AM2015-297 | C6: 42.61 | D6: AFGESLOTEN | E6: 3.59 | F6: 0 | G6: 46.2 | H6: {"1":{"virtuemart_calc_id":1,"calc_name":"21% BTW","calc_value":21,"result":1.4406},"2":{"virtuemart_calc_id":2,"calc_name":"6% BTW","calc_value":6,"result":2.14518}} | I6: 3 | J6: 0 | K6: 0
A7: 42274.384 | B7: AM2015-298 | C7: 15.08 | D7: AFGESLOTEN | E7: 1.77 | F7: 0 | G7: 16.85 | H7: {"2":{"virtuemart_calc_id":2,"calc_name":"6% BTW","calc_value":6,"result":0.5604},"1":{"virtuemart_calc_id":1,"calc_name":"21% BTW","calc_value":21,"result":1.20624}} | I7: 3 | J7: 0 | K7: 0
A8: 42274.389 | C8: 94.16 | D8: Factuur betaald | E8: 16.74 | F8: 0 | G8: 110.9 | H8: {"1":{"virtuemart_calc_id":1,"calc_name":"21% BTW","calc_value":21,"result":15.52446},"2":{"virtuemart_calc_id":2,"calc_name":"6% BTW","calc_value":6,"result":1.21416}} | I8: 9 | J8: 0 | K8: 0
A9: 42274.824 | B9: AM2015-299 | C9: 17.77 | D9: AFGESLOTEN | E9: 3.73 | F9: 0 | G9: 21.5 | H9: {"1":{"virtuemart_calc_id":1,"calc_name":"21% BTW","calc_value":21,"result":3.7314}} | I9: 3 | J9: 0 | K9: 0
A10: 42275.797 | C10: 99.06 | D10: Factuur betaald | E10: 20.79 | F10: 0 | G10: 119.85 | H10: {"1":{"virtuemart_calc_id":1,"calc_name":"21% BTW","calc_value":21,"result":20.80071}} | I10: 9 | J10: 0 | K10: 0
